BEGIN:VCALENDAR
VERSION:2.0
PRODID:-//پەیمانگەی قەلاو منارە - ECPv6.15.20//NONSGML v1.0//EN
CALSCALE:GREGORIAN
METHOD:PUBLISH
X-WR-CALNAME:پەیمانگەی قەلاو منارە
X-ORIGINAL-URL:https://qalamnara.com
X-WR-CALDESC:Events for پەیمانگەی قەلاو منارە
REFRESH-INTERVAL;VALUE=DURATION:PT1H
X-Robots-Tag:noindex
X-PUBLISHED-TTL:PT1H
BEGIN:VTIMEZONE
TZID:Europe/Moscow
BEGIN:STANDARD
TZOFFSETFROM:+0300
TZOFFSETTO:+0300
TZNAME:MSK
DTSTART:20220101T000000
END:STANDARD
END:VTIMEZONE
BEGIN:VEVENT
DTSTART;VALUE=DATE:20251207
DTEND;VALUE=DATE:20251208
DTSTAMP:20260421T003533
CREATED:20250824T155905Z
LAST-MODIFIED:20250824T160026Z
UID:11619-1765065600-1765151999@qalamnara.com
SUMMARY:سیمیناری ئـــاگـــر و ئــاگر کەوتنەوە و خۆپارێزى لە ئـــاگر
DESCRIPTION:« All Events\n 				\n				\n				\n				\n					\n	سیمیناری ناساندنی بەشەکانی بەشی کۆمپیوتەر				\n				\n				\n					01/09/2023				\n				\n									له‌ لایه‌ن مامۆستا ( رێنــــاس عدنـــان عمر ) سیمینارێك پێشكه‌ش كـــرا بــۆ قــوتابیانی دەرچوی قۆناغى سێیەم سەبارەت بە ناساندنى بەشەکانى ( Net \, Web \, Pro ) به‌ناوی ستافی په‌یمانگه‌ سوپاس و پێزانینی خۆمان ئاراسته‌ی مامۆستای به‌رێز ده‌كه‌ین هیوادارین نمونه‌ی وه‌ك به‌رێزیـــان زۆر بێت په‌یمانگه‌ی قه‌ڵاومناره 								\n				\n							\n			\n			\n				\n			\n			\n				\n			\n			\n				\n			\n			\n				\n			\n			\n				\n			\n			\n				\n			\n		\n		\n						\n				\n						\n					\n			\n						\n				\n					\n	\n\n	Categories:	\n		سیمینار	\n\n				\n				\n					\n		\n					\n		\n				\n						\n					\n			\n						\n				\n					\n	\n		\n\n				خولی دەرونناسی	\n\n\n		\n	\n		سیمیناری خراپ بەکارهێنانى سۆشیاڵ میدیــا
URL:https://qalamnara.com/event/%d8%b3%db%8c%d9%85%db%8c%d9%86%d8%a7%d8%b1%db%8c-%d8%a6%d9%80%d9%80%d9%80%d8%a7%da%af%d9%80%d9%80%d9%80%d8%b1-%d9%88-%d8%a6%d9%80%d9%80%d8%a7%da%af%d8%b1-%da%a9%db%95%d9%88%d8%aa%d9%86%db%95%d9%88/
LOCATION:پەیمانگەی قەڵا و منارە\, گەڕەکی بەهاری نوێ – ١٠٠م – تەنیشت نەخۆشخانەی فریاکەوتنی ڕۆژئاو\, Erbil\, Erbil\, 44001\, Iraq
CATEGORIES:سیمینار
ATTACH;FMTTYPE=image/jpeg:https://qalamnara.com/wp-content/uploads/2024/08/photo_2025-08-24_18-46-09.jpg
END:VEVENT
BEGIN:VEVENT
DTSTART;TZID=Europe/Moscow:20250824T080000
DTEND;TZID=Europe/Moscow:20250824T170000
DTSTAMP:20260421T003533
CREATED:20250824T154823Z
LAST-MODIFIED:20250824T154939Z
UID:11596-1756022400-1756054800@qalamnara.com
SUMMARY:سیمیناری مامۆستا هەرمان
DESCRIPTION:« All Events\n 				\n				\n				\n				\n					\n	سیمیناری ناساندنی بەشەکانی بەشی کۆمپیوتەر				\n				\n				\n					01/09/2023				\n				\n									له‌ لایه‌ن مامۆستا ( رێنــــاس عدنـــان عمر ) سیمینارێك پێشكه‌ش كـــرا بــۆ قــوتابیانی دەرچوی قۆناغى سێیەم سەبارەت بە ناساندنى بەشەکانى ( Net \, Web \, Pro ) به‌ناوی ستافی په‌یمانگه‌ سوپاس و پێزانینی خۆمان ئاراسته‌ی مامۆستای به‌رێز ده‌كه‌ین هیوادارین نمونه‌ی وه‌ك به‌رێزیـــان زۆر بێت په‌یمانگه‌ی قه‌ڵاومناره 								\n				\n							\n			\n			\n				\n			\n			\n				\n			\n			\n				\n			\n			\n				\n			\n			\n				\n			\n			\n				\n			\n		\n		\n						\n				\n						\n					\n			\n						\n				\n					\n	\n\n	Categories:	\n		سیمینار	\n\n				\n				\n					\n		\n					\n		\n				\n						\n					\n			\n						\n				\n					\n	\n		\n\n				خولی دەرونناسی	\n\n\n		\n	\n		سیمیناری خراپ بەکارهێنانى سۆشیاڵ میدیــا
URL:https://qalamnara.com/event/%d8%b3%db%8c%d9%85%db%8c%d9%86%d8%a7%d8%b1%db%8c-%d9%85%d8%a7%d9%85%db%86%d8%b3%d8%aa%d8%a7-%d9%87%db%95%d8%b1%d9%85%d8%a7%d9%86/
LOCATION:Erbil
CATEGORIES:سیمینار
ATTACH;FMTTYPE=image/jpeg:https://qalamnara.com/wp-content/uploads/2025/08/photo_2025-08-24_18-40-34.jpg
END:VEVENT
BEGIN:VEVENT
DTSTART;VALUE=DATE:20250221
DTEND;VALUE=DATE:20250222
DTSTAMP:20260421T003533
CREATED:20250824T154420Z
LAST-MODIFIED:20250824T154502Z
UID:11585-1740096000-1740182399@qalamnara.com
SUMMARY:رۆژی جیهانی زمانی دایک
DESCRIPTION:« All Events\n 				\n				\n				\n				\n					\n	سیمیناری ناساندنی بەشەکانی بەشی کۆمپیوتەر				\n				\n				\n					01/09/2023				\n				\n									له‌ لایه‌ن مامۆستا ( رێنــــاس عدنـــان عمر ) سیمینارێك پێشكه‌ش كـــرا بــۆ قــوتابیانی دەرچوی قۆناغى سێیەم سەبارەت بە ناساندنى بەشەکانى ( Net \, Web \, Pro ) به‌ناوی ستافی په‌یمانگه‌ سوپاس و پێزانینی خۆمان ئاراسته‌ی مامۆستای به‌رێز ده‌كه‌ین هیوادارین نمونه‌ی وه‌ك به‌رێزیـــان زۆر بێت په‌یمانگه‌ی قه‌ڵاومناره 								\n				\n							\n			\n			\n				\n			\n			\n				\n			\n			\n				\n			\n			\n				\n			\n			\n				\n			\n			\n				\n			\n		\n		\n						\n				\n						\n					\n			\n						\n				\n					\n	\n\n	Categories:	\n		سیمینار	\n\n				\n				\n					\n		\n					\n		\n				\n						\n					\n			\n						\n				\n					\n	\n		\n\n				خولی دەرونناسی	\n\n\n		\n	\n		سیمیناری خراپ بەکارهێنانى سۆشیاڵ میدیــا
URL:https://qalamnara.com/event/%d8%b1%db%86%da%98%db%8c-%d8%ac%db%8c%d9%87%d8%a7%d9%86%db%8c-%d8%b2%d9%85%d8%a7%d9%86%db%8c-%d8%af%d8%a7%db%8c%da%a9/
LOCATION:پەیمانگەی قەڵا و منارە\, گەڕەکی بەهاری نوێ – ١٠٠م – تەنیشت نەخۆشخانەی فریاکەوتنی ڕۆژئاو\, Erbil\, Erbil\, 44001\, Iraq
CATEGORIES:سیمینار
ATTACH;FMTTYPE=image/jpeg:https://qalamnara.com/wp-content/uploads/2025/08/photo_2025-08-24_18-37-30.jpg
END:VEVENT
BEGIN:VEVENT
DTSTART;VALUE=DATE:20241125
DTEND;VALUE=DATE:20241126
DTSTAMP:20260421T003533
CREATED:20250824T153647Z
LAST-MODIFIED:20250824T153942Z
UID:11568-1732492800-1732579199@qalamnara.com
SUMMARY:سیمیناری هۆشیاری
DESCRIPTION:« All Events\n 				\n				\n				\n				\n					\n	سیمیناری ناساندنی بەشەکانی بەشی کۆمپیوتەر				\n				\n				\n					01/09/2023				\n				\n									له‌ لایه‌ن مامۆستا ( رێنــــاس عدنـــان عمر ) سیمینارێك پێشكه‌ش كـــرا بــۆ قــوتابیانی دەرچوی قۆناغى سێیەم سەبارەت بە ناساندنى بەشەکانى ( Net \, Web \, Pro ) به‌ناوی ستافی په‌یمانگه‌ سوپاس و پێزانینی خۆمان ئاراسته‌ی مامۆستای به‌رێز ده‌كه‌ین هیوادارین نمونه‌ی وه‌ك به‌رێزیـــان زۆر بێت په‌یمانگه‌ی قه‌ڵاومناره 								\n				\n							\n			\n			\n				\n			\n			\n				\n			\n			\n				\n			\n			\n				\n			\n			\n				\n			\n			\n				\n			\n		\n		\n						\n				\n						\n					\n			\n						\n				\n					\n	\n\n	Categories:	\n		سیمینار	\n\n				\n				\n					\n		\n					\n		\n				\n						\n					\n			\n						\n				\n					\n	\n		\n\n				خولی دەرونناسی	\n\n\n		\n	\n		سیمیناری خراپ بەکارهێنانى سۆشیاڵ میدیــا
URL:https://qalamnara.com/event/%d8%b3%db%8c%d9%85%db%8c%d9%86%d8%a7%d8%b1%db%8c-%d9%87%db%86%d8%b4%db%8c%d8%a7%d8%b1%db%8c/
LOCATION:پەیمانگەی قەڵا و منارە\, گەڕەکی بەهاری نوێ – ١٠٠م – تەنیشت نەخۆشخانەی فریاکەوتنی ڕۆژئاو\, Erbil\, Erbil\, 44001\, Iraq
CATEGORIES:سیمینار
ATTACH;FMTTYPE=image/jpeg:https://qalamnara.com/wp-content/uploads/2025/08/photo_2025-08-24_18-27-31-3.jpg
END:VEVENT
BEGIN:VEVENT
DTSTART;VALUE=DATE:20231215
DTEND;VALUE=DATE:20231216
DTSTAMP:20260421T003533
CREATED:20250824T160758Z
LAST-MODIFIED:20250824T160922Z
UID:11632-1702598400-1702684799@qalamnara.com
SUMMARY:سیمیناری خراپ بەکارهێنانى سۆشیاڵ میدیــا
DESCRIPTION:« All Events\n 				\n				\n				\n				\n					\n	سیمیناری ناساندنی بەشەکانی بەشی کۆمپیوتەر				\n				\n				\n					01/09/2023				\n				\n									له‌ لایه‌ن مامۆستا ( رێنــــاس عدنـــان عمر ) سیمینارێك پێشكه‌ش كـــرا بــۆ قــوتابیانی دەرچوی قۆناغى سێیەم سەبارەت بە ناساندنى بەشەکانى ( Net \, Web \, Pro ) به‌ناوی ستافی په‌یمانگه‌ سوپاس و پێزانینی خۆمان ئاراسته‌ی مامۆستای به‌رێز ده‌كه‌ین هیوادارین نمونه‌ی وه‌ك به‌رێزیـــان زۆر بێت په‌یمانگه‌ی قه‌ڵاومناره 								\n				\n							\n			\n			\n				\n			\n			\n				\n			\n			\n				\n			\n			\n				\n			\n			\n				\n			\n			\n				\n			\n		\n		\n						\n				\n						\n					\n			\n						\n				\n					\n	\n\n	Categories:	\n		سیمینار	\n\n				\n				\n					\n		\n					\n		\n				\n						\n					\n			\n						\n				\n					\n	\n		\n\n				خولی دەرونناسی	\n\n\n		\n	\n		سیمیناری خراپ بەکارهێنانى سۆشیاڵ میدیــا
URL:https://qalamnara.com/event/%d8%b3%db%8c%d9%85%db%8c%d9%86%d8%a7%d8%b1%db%8c-%d8%ae%d8%b1%d8%a7%d9%be-%d8%a8%db%95%da%a9%d8%a7%d8%b1%d9%87%db%8e%d9%86%d8%a7%d9%86%d9%89-%d8%b3%db%86%d8%b4%db%8c%d8%a7%da%b5-%d9%85%db%8c%d8%af/
LOCATION:پەیمانگەی قەڵا و منارە\, گەڕەکی بەهاری نوێ – ١٠٠م – تەنیشت نەخۆشخانەی فریاکەوتنی ڕۆژئاو\, Erbil\, Erbil\, 44001\, Iraq
CATEGORIES:سیمینار
ATTACH;FMTTYPE=image/jpeg:https://qalamnara.com/wp-content/uploads/2025/08/photo_2025-08-24_18-48-01-3.jpg
END:VEVENT
BEGIN:VEVENT
DTSTART;VALUE=DATE:20230901
DTEND;VALUE=DATE:20230902
DTSTAMP:20260421T003533
CREATED:20250824T162918Z
LAST-MODIFIED:20250824T163034Z
UID:11641-1693526400-1693612799@qalamnara.com
SUMMARY:سیمیناری ناساندنی بەشەکانی بەشی کۆمپیوتەر
DESCRIPTION:« All Events\n 				\n				\n				\n				\n					\n	سیمیناری ناساندنی بەشەکانی بەشی کۆمپیوتەر				\n				\n				\n					01/09/2023				\n				\n									له‌ لایه‌ن مامۆستا ( رێنــــاس عدنـــان عمر ) سیمینارێك پێشكه‌ش كـــرا بــۆ قــوتابیانی دەرچوی قۆناغى سێیەم سەبارەت بە ناساندنى بەشەکانى ( Net \, Web \, Pro ) به‌ناوی ستافی په‌یمانگه‌ سوپاس و پێزانینی خۆمان ئاراسته‌ی مامۆستای به‌رێز ده‌كه‌ین هیوادارین نمونه‌ی وه‌ك به‌رێزیـــان زۆر بێت په‌یمانگه‌ی قه‌ڵاومناره 								\n				\n							\n			\n			\n				\n			\n			\n				\n			\n			\n				\n			\n			\n				\n			\n			\n				\n			\n			\n				\n			\n		\n		\n						\n				\n						\n					\n			\n						\n				\n					\n	\n\n	Categories:	\n		سیمینار	\n\n				\n				\n					\n		\n					\n		\n				\n						\n					\n			\n						\n				\n					\n	\n		\n\n				خولی دەرونناسی	\n\n\n		\n	\n		سیمیناری خراپ بەکارهێنانى سۆشیاڵ میدیــا
URL:https://qalamnara.com/event/%d8%b3%db%8c%d9%85%db%8c%d9%86%d8%a7%d8%b1%db%8c-%d9%86%d8%a7%d8%b3%d8%a7%d9%86%d8%af%d9%86%db%8c-%d8%a8%db%95%d8%b4%db%95%da%a9%d8%a7%d9%86%db%8c-%d8%a8%db%95%d8%b4%db%8c-%da%a9%db%86%d9%85%d9%be/
LOCATION:پەیمانگەی قەڵا و منارە\, گەڕەکی بەهاری نوێ – ١٠٠م – تەنیشت نەخۆشخانەی فریاکەوتنی ڕۆژئاو\, Erbil\, Erbil\, 44001\, Iraq
CATEGORIES:سیمینار
ATTACH;FMTTYPE=image/jpeg:https://qalamnara.com/wp-content/uploads/2025/08/photo_2025-08-24_19-13-06.jpg
END:VEVENT
END:VCALENDAR