BEGIN:VCALENDAR
VERSION:2.0
PRODID:-//پەیمانگەی قەلاو منارە - ECPv6.15.20//NONSGML v1.0//EN
CALSCALE:GREGORIAN
METHOD:PUBLISH
X-ORIGINAL-URL:https://qalamnara.com
X-WR-CALDESC:Events for پەیمانگەی قەلاو منارە
REFRESH-INTERVAL;VALUE=DURATION:PT1H
X-Robots-Tag:noindex
X-PUBLISHED-TTL:PT1H
BEGIN:VTIMEZONE
TZID:Europe/Moscow
BEGIN:STANDARD
TZOFFSETFROM:+0300
TZOFFSETTO:+0300
TZNAME:MSK
DTSTART:20210101T000000
END:STANDARD
END:VTIMEZONE
BEGIN:VEVENT
DTSTART;TZID=Europe/Moscow:20250821T080000
DTEND;TZID=Europe/Moscow:20250821T170000
DTSTAMP:20260420T224513
CREATED:20250821T155925Z
LAST-MODIFIED:20250824T151327Z
UID:11449-1755763200-1755795600@qalamnara.com
SUMMARY:خولی کۆمپیوتەر بۆ مامۆستایان
DESCRIPTION:« All Events\n 				\n				\n				\n				\n					\n	خولی کۆمپیوتەر بۆ مامۆستایان				\n				\n				\n					29/1/2023				\n				\n									(بۆ مامۆستایانی (غير اختصاص (Powerpoint\, Excel\, Word) پەیمانگەی قەڵاو منارە هەڵساوە بە کردنەوەی خولی کۆمپیوتەر لە بابەتیخولەکە بۆ ماوەی ١٨ کاتژمێر بەڕێوەچوو لە لایان مامۆستایانی پەیمانگەکەمان وانەکان دەگووترایوەو بابەتی وۆرد لە لایان مامۆستا نڤینبابەتی ئێکسل لە لایان مامۆستا یادگاربابەتی پاوەرپۆینت لە لایان مامۆستا هاودەمبابەتەکان بە شێوەیەکی کرداری و تیۆری بە تێروتەسەلی لەلایان مامۆستایانی پسپۆڕ بۆ بەشداربووانی خولەکە ڕوونکرایەوە لە کۆتایی خولەکە بڕوانامەی بەشداربوون بەسەر مامۆستایانی خولەکە دابەشکرا 								\n				\n							\n			\n			\n				\n			\n			\n				\n			\n			\n				\n			\n			\n				\n			\n			\n				\n			\n			\n				\n			\n		\n		\n						\n				\n						\n					\n			\n						\n				\n					\n	\n		\n\n				خولی تۆپی پێ	\n\n\n		\n	\n		سیمیناری مامۆستا هەرمان
URL:https://qalamnara.com/event/%d8%ae%d9%88%d9%84%db%8c-%da%a9%db%86%d9%85%d9%be%db%8c%d9%88%d8%aa%db%95%d8%b1-%d8%a8%db%86-%d9%85%d8%a7%d9%85%db%86%d8%b3%d8%aa%d8%a7%db%8c%d8%a7%d9%86/
LOCATION:پەیمانگەی قەڵا و منارە\, گەڕەکی بەهاری نوێ – ١٠٠م – تەنیشت نەخۆشخانەی فریاکەوتنی ڕۆژئاو\, Erbil\, Erbil\, 44001\, Iraq
CATEGORIES:خولی پەرەپێدانی مامۆستایان
ATTACH;FMTTYPE=image/jpeg:https://qalamnara.com/wp-content/uploads/2024/08/IMG_6377-scaled.jpg
END:VEVENT
BEGIN:VEVENT
DTSTART;TZID=Europe/Moscow:20221125T000000
DTEND;TZID=Europe/Moscow:20221125T000000
DTSTAMP:20260420T224513
CREATED:20250821T154026Z
LAST-MODIFIED:20250824T151311Z
UID:11412-1669334400-1669334400@qalamnara.com
SUMMARY:خولی دەرونناسی
DESCRIPTION:« All Events\n 				\n				\n				\n				\n					\n	خولی کۆمپیوتەر بۆ مامۆستایان				\n				\n				\n					29/1/2023				\n				\n									(بۆ مامۆستایانی (غير اختصاص (Powerpoint\, Excel\, Word) پەیمانگەی قەڵاو منارە هەڵساوە بە کردنەوەی خولی کۆمپیوتەر لە بابەتیخولەکە بۆ ماوەی ١٨ کاتژمێر بەڕێوەچوو لە لایان مامۆستایانی پەیمانگەکەمان وانەکان دەگووترایوەو بابەتی وۆرد لە لایان مامۆستا نڤینبابەتی ئێکسل لە لایان مامۆستا یادگاربابەتی پاوەرپۆینت لە لایان مامۆستا هاودەمبابەتەکان بە شێوەیەکی کرداری و تیۆری بە تێروتەسەلی لەلایان مامۆستایانی پسپۆڕ بۆ بەشداربووانی خولەکە ڕوونکرایەوە لە کۆتایی خولەکە بڕوانامەی بەشداربوون بەسەر مامۆستایانی خولەکە دابەشکرا 								\n				\n							\n			\n			\n				\n			\n			\n				\n			\n			\n				\n			\n			\n				\n			\n			\n				\n			\n			\n				\n			\n		\n		\n						\n				\n						\n					\n			\n						\n				\n					\n	\n		\n\n				خولی تۆپی پێ	\n\n\n		\n	\n		سیمیناری مامۆستا هەرمان
URL:https://qalamnara.com/event/%d8%ae%d9%88%d9%84%db%8c-%d8%af%db%95%d8%b1%d9%88%d9%86%d9%86%d8%a7%d8%b3%db%8c/
LOCATION:پەیمانگەی قەڵا و منارە\, گەڕەکی بەهاری نوێ – ١٠٠م – تەنیشت نەخۆشخانەی فریاکەوتنی ڕۆژئاو\, Erbil\, Erbil\, 44001\, Iraq
CATEGORIES:خولی پەرەپێدانی مامۆستایان
ATTACH;FMTTYPE=image/jpeg:https://qalamnara.com/wp-content/uploads/2024/08/DSC_0143-scaled.jpg
END:VEVENT
BEGIN:VEVENT
DTSTART;TZID=Europe/Moscow:20220628T160000
DTEND;TZID=Europe/Moscow:20220628T180000
DTSTAMP:20260420T224513
CREATED:20250728T152120Z
LAST-MODIFIED:20250823T134141Z
UID:11399-1656432000-1656439200@qalamnara.com
SUMMARY:خولی شیاندن
DESCRIPTION:« All Events\n 				\n				\n				\n				\n					\n	خولی کۆمپیوتەر بۆ مامۆستایان				\n				\n				\n					29/1/2023				\n				\n									(بۆ مامۆستایانی (غير اختصاص (Powerpoint\, Excel\, Word) پەیمانگەی قەڵاو منارە هەڵساوە بە کردنەوەی خولی کۆمپیوتەر لە بابەتیخولەکە بۆ ماوەی ١٨ کاتژمێر بەڕێوەچوو لە لایان مامۆستایانی پەیمانگەکەمان وانەکان دەگووترایوەو بابەتی وۆرد لە لایان مامۆستا نڤینبابەتی ئێکسل لە لایان مامۆستا یادگاربابەتی پاوەرپۆینت لە لایان مامۆستا هاودەمبابەتەکان بە شێوەیەکی کرداری و تیۆری بە تێروتەسەلی لەلایان مامۆستایانی پسپۆڕ بۆ بەشداربووانی خولەکە ڕوونکرایەوە لە کۆتایی خولەکە بڕوانامەی بەشداربوون بەسەر مامۆستایانی خولەکە دابەشکرا 								\n				\n							\n			\n			\n				\n			\n			\n				\n			\n			\n				\n			\n			\n				\n			\n			\n				\n			\n			\n				\n			\n		\n		\n						\n				\n						\n					\n			\n						\n				\n					\n	\n		\n\n				خولی تۆپی پێ	\n\n\n		\n	\n		سیمیناری مامۆستا هەرمان
URL:https://qalamnara.com/event/%d8%ae%d9%88%d9%84%db%8c-%d8%b4%db%8c%d8%a7%d9%86%d8%af%d9%86/
LOCATION:پەیمانگەی قەڵا و منارە\, گەڕەکی بەهاری نوێ – ١٠٠م – تەنیشت نەخۆشخانەی فریاکەوتنی ڕۆژئاو\, Erbil\, Erbil\, 44001\, Iraq
CATEGORIES:خولی پەرەپێدانی مامۆستایان
ATTACH;FMTTYPE=image/jpeg:https://qalamnara.com/wp-content/uploads/2025/07/DSC_8130-scaled.jpg
END:VEVENT
END:VCALENDAR