BEGIN:VCALENDAR
VERSION:2.0
PRODID:-//پەیمانگەی قەلاو منارە - ECPv6.15.20//NONSGML v1.0//EN
CALSCALE:GREGORIAN
METHOD:PUBLISH
X-WR-CALNAME:پەیمانگەی قەلاو منارە
X-ORIGINAL-URL:https://qalamnara.com
X-WR-CALDESC:Events for پەیمانگەی قەلاو منارە
REFRESH-INTERVAL;VALUE=DURATION:PT1H
X-Robots-Tag:noindex
X-PUBLISHED-TTL:PT1H
BEGIN:VTIMEZONE
TZID:Europe/Moscow
BEGIN:STANDARD
TZOFFSETFROM:+0300
TZOFFSETTO:+0300
TZNAME:MSK
DTSTART:20210101T000000
END:STANDARD
END:VTIMEZONE
BEGIN:VEVENT
DTSTART;TZID=Europe/Moscow:20220628T160000
DTEND;TZID=Europe/Moscow:20220628T180000
DTSTAMP:20260420T191812
CREATED:20250728T152120Z
LAST-MODIFIED:20250823T134141Z
UID:11399-1656432000-1656439200@qalamnara.com
SUMMARY:خولی شیاندن
DESCRIPTION:« All Events\n 				\n				\n				\n				\n					\n	خولی شیاندن				\n				\n				\n				\n					\n		\n			June 28\, 2022\n\n	\n\n	 @ \n\n\n4:00 pm\n\n		\n\n\n\n	\n	 - \n\n6:00 pm\n\n\n\n	\n				\n				\n				\n									خولی شیاندنی مامۆستایان بەهۆی پێداویستییەکانی سیستەمی پەروەردەیی و گەشەپێدانی تواناکانی مامۆستایان پەیمانگەی قەڵاومنارە هەڵسا بە کردنەوەی  خولی شیاندن  بە بەشداری چەندین مامۆستای پەیمانگەکەمان  بەرێوە چوو  کە ئامانجی باشترکردنی ڕێبازی وانەوتنەوە و تواناکانی پەروەردەییان بوو.  ئامانجە سەرەکییەکانی خولەکە:  1. نوێکردنەوەی زانیارییەکان: پێشکەشکردنی زانیاری نوێ و ڕێبازە پەروەردەییە کارامایەکان بۆ مامۆستایان.  2. ڕاهێنانی شارەزایی فێرکردن :باشترکردنی تەکنیکەکانی وانەوتنەوە و بەکارهێنانی ئامرازە هاوچەرخەکانی وەک تەکنەلۆژیا لە پۆلدا.  3. گەشەپێدانی توانای پەیوەندی: پتەوکردنی ڕێبازەکانی پەیوەندیکردن لەگەڵ خوێندکاران و دایک و باوکەکان.  لە کۆتایی خولەکە بڕوانامەی بەشداری کردن بە خشرا بە بەشداربوان پەیمانگاکەمان بەردەوامە لە ڕێکخستنی ئەم جۆرە خولانەدا بۆ بەرزکردنەوەی ئاستی پەروەردەی مامۆستایان .								\n				\n							\n			\n			\n				\n			\n			\n				\n			\n			\n				\n			\n			\n				\n			\n			\n				\n			\n			\n				\n			\n		\n		\n						\n				\n						\n					\n			\n							\n		\n				\n			\n						\n				\n					\n	\n\n	Categories:	\n		خولی پەرەپێدانی مامۆستایان	\n\n				\n				\n					\n		\n					\n		\n				\n						\n					\n			\n						\n				\n					\n	\n		\n\n	\n	Add to calendar	\n		\n	\n\n		\n			\n									\n	Google Calendar\n\n									\n	iCalendar\n\n									\n	Outlook 365\n\n									\n	Outlook Live\n\n							\n		\n\n		\n	\n\n				\n				\n					\n		\n					\n		\n				\n						\n					\n			\n						\n				\n					\n	\n		\n		\n	\n		خولی دەرونناسی
URL:https://qalamnara.com/event/%d8%ae%d9%88%d9%84%db%8c-%d8%b4%db%8c%d8%a7%d9%86%d8%af%d9%86/
LOCATION:پەیمانگەی قەڵا و منارە\, گەڕەکی بەهاری نوێ – ١٠٠م – تەنیشت نەخۆشخانەی فریاکەوتنی ڕۆژئاو\, Erbil\, Erbil\, 44001\, Iraq
CATEGORIES:خولی پەرەپێدانی مامۆستایان
ATTACH;FMTTYPE=image/jpeg:https://qalamnara.com/wp-content/uploads/2025/07/DSC_8130-scaled.jpg
END:VEVENT
END:VCALENDAR